BEGIN:VCALENDAR
VERSION:2.0
PRODID:-//Heilige Metropolis von Austria -::- Ökumenisches Patriarchat//NONSGML kigkonsult.se iCalcreator 2.41.92//
CALSCALE:GREGORIAN
METHOD:PUBLISH
UID:38643164-3637-4336-b736-333165383933
X-WR-CALNAME:iCagenda
X-WR-CALDESC:Event Management Extension for Joomla!
X-WR-RELCALID:3E26604A-50F4-4449-8B3E-E4F4932D05B5
X-WR-TIMEZONE:Europe/Vienna
BEGIN:VTIMEZONE
TZID:Europe/Vienna
TZUNTIL:20261025T010000Z
BEGIN:STANDARD
TZNAME:CET
DTSTART:20241027T030000
TZOFFSETFROM:+0200
TZOFFSETTO:+0100
RDATE:20251026T030000
END:STANDARD
BEGIN:DAYLIGHT
TZNAME:CEST
DTSTART:20240331T020000
TZOFFSETFROM:+0100
TZOFFSETTO:+0200
RDATE:20250330T020000
RDATE:20260329T020000
END:DAYLIGHT
END:VTIMEZONE
BEGIN:VEVENT
UID:65376661-3564-4331-b938-646132623463
DTSTAMP:20260422T073840Z
CATEGORIES:Graz
CLASS:PUBLIC
DESCRIPTION:
DTSTART:20250316T080000Z
DTEND:20250316T080000Z
GEO:00;0
LOCATION:Kirchengemeinde der Heiligen Ärzten Kosmas und Damian
ORGANIZER;CN=:mailto:kirche@metropolisvonaustria.at
SEQUENCE:1
SUMMARY:Orthros und Göttliche Liturgie
TRANSP:OPAQUE
URL:https://www.metropolisvonaustria.at/de/component/icagenda/3266-2024-02-
 23-13-01-31/2025-03-16-09-00?Itemid=102&layout=vcal
END:VEVENT
END:VCALENDAR
