BEGIN:VCALENDAR
VERSION:2.0
PRODID:-//Heilige Metropolis von Austria -::- Ökumenisches Patriarchat//NONSGML kigkonsult.se iCalcreator 2.41.92//
CALSCALE:GREGORIAN
METHOD:PUBLISH
UID:61366339-3436-4661-a561-636633396439
X-WR-CALNAME:iCagenda
X-WR-CALDESC:Event Management Extension for Joomla!
X-WR-RELCALID:3E26604A-50F4-4449-8B3E-E4F4932D05B5
X-WR-TIMEZONE:Europe/Vienna
BEGIN:VTIMEZONE
TZID:Europe/Vienna
TZUNTIL:20261025T010000Z
BEGIN:STANDARD
TZNAME:CET
DTSTART:20241027T030000
TZOFFSETFROM:+0200
TZOFFSETTO:+0100
RDATE:20251026T030000
END:STANDARD
BEGIN:DAYLIGHT
TZNAME:CEST
DTSTART:20240331T020000
TZOFFSETFROM:+0100
TZOFFSETTO:+0200
RDATE:20250330T020000
RDATE:20260329T020000
END:DAYLIGHT
END:VTIMEZONE
BEGIN:VEVENT
UID:64393435-3966-4965-b566-656335383561
DTSTAMP:20260422T134510Z
CATEGORIES:Heiligenkalender
CLASS:PUBLIC
DESCRIPTION;ALTREP="CID:<FFFF__=0ABBE548DFE235B58f9e8a93d@coffeebean.com>":
 Heiligenkalender der Orthodoxen Kirche\n\nAm Sechszenten des Monats\, die 
 Vererhung der Heiligen Kette des Heiligen und Glorreichen Apostel Petrus. 
 Am selben Tag\, das Gedächtnis der Heiligen Märtyrer und leiblichen Brüder
 \, Peusippos\, Elasippos und Mesippos\; und Neonila ihrer Mutter. Am selbe
 n Tag\, das Gedächtnis des Heiligen Märtyrer Danax.
DTSTART:20250115T230000Z
DTEND:20250115T230000Z
GEO:00;0
LOCATION:
ORGANIZER:
SEQUENCE:1
SUMMARY:Verehrung der Heiligen Kette des Apostel Petrus
TRANSP:OPAQUE
URL:https://www.metropolisvonaustria.at/de/component/icagenda/3420-2025-01-
 14-14-49-50/2025-01-16-00-00?Itemid=102&layout=vcal
END:VEVENT
END:VCALENDAR
