BEGIN:VCALENDAR
VERSION:2.0
PRODID:-//Heilige Metropolis von Austria -::- Ökumenisches Patriarchat//NONSGML kigkonsult.se iCalcreator 2.41.92//
CALSCALE:GREGORIAN
METHOD:PUBLISH
UID:32653964-3662-4830-b336-373435646137
X-WR-CALNAME:iCagenda
X-WR-CALDESC:Event Management Extension for Joomla!
X-WR-RELCALID:3E26604A-50F4-4449-8B3E-E4F4932D05B5
X-WR-TIMEZONE:Europe/Vienna
BEGIN:VTIMEZONE
TZID:Europe/Vienna
TZUNTIL:20261025T010000Z
BEGIN:STANDARD
TZNAME:CET
DTSTART:20241027T030000
TZOFFSETFROM:+0200
TZOFFSETTO:+0100
RDATE:20251026T030000
END:STANDARD
BEGIN:DAYLIGHT
TZNAME:CEST
DTSTART:20240331T020000
TZOFFSETFROM:+0100
TZOFFSETTO:+0200
RDATE:20250330T020000
RDATE:20260329T020000
END:DAYLIGHT
END:VTIMEZONE
BEGIN:VEVENT
UID:37613932-3933-4236-b435-663365353266
DTSTAMP:20260423T210214Z
CATEGORIES:Heiligenkalender
CLASS:PUBLIC
DESCRIPTION;ALTREP="CID:<FFFF__=0ABBE548DFE235B58f9e8a93d@coffeebean.com>":
 Heiligenkalender der Orthodoxen Kirche\nAm Neunten des Monats\, das Gedäch
 tnis des heiligen Märtyrer Nikephoros. Abschluss des Festes der Darstellun
 g des Herrn. Das Gedächtnis unseres seligen Vaters Romanos aus Kilikien. A
 n diesem Tag\, das Gedächtnis der heiligen Märtyrer Markellos\, Bischof vo
 n Sizilien\, Filagrios\, Bischof von Zypern und Pangratios\, Bischof von T
 avromenion. An diesem Tag wurde der heilige Priestermärtyrer Petros aus Da
 maskus durch das Schwert vollendet. An diesem Tag erwähnen wir vom Gleichn
 is des Zöllners und des Pharisäers aus dem heiligen Evangelium nach dem Ev
 angelisten Lukas 18\,10–30.\nAuswahl aus den Synaxaren des Tages\n\nNikeph
 oros Märtyrer (9. Februar)\nRomanos seliger und Wundertäter (9. Februar 27
 . November ΑΦα)\nPangratius Bischof von Tauromenium (9. Februar und 9. Jul
 i)
DTSTART:20250208T230000Z
DTEND:20250208T230000Z
GEO:00;0
LOCATION:
ORGANIZER:
SEQUENCE:1
SUMMARY:Abschluss des Festes der Darstellung des Herrn. Gedächtnis des heil
 igen Märtyrer Nikephoros
TRANSP:OPAQUE
URL:https://www.metropolisvonaustria.at/de/component/icagenda/3469-2025-02-
 06-07-20-23/2025-02-09-00-00?Itemid=102&layout=vcal
END:VEVENT
END:VCALENDAR
