BEGIN:VCALENDAR
VERSION:2.0
PRODID:-//Heilige Metropolis von Austria -::- Ökumenisches Patriarchat//NONSGML kigkonsult.se iCalcreator 2.41.92//
CALSCALE:GREGORIAN
METHOD:PUBLISH
UID:31313835-3032-4935-b534-386530393465
X-WR-CALNAME:iCagenda
X-WR-CALDESC:Event Management Extension for Joomla!
X-WR-RELCALID:3E26604A-50F4-4449-8B3E-E4F4932D05B5
X-WR-TIMEZONE:Europe/Vienna
BEGIN:VTIMEZONE
TZID:Europe/Vienna
TZUNTIL:20261025T010000Z
BEGIN:STANDARD
TZNAME:CET
DTSTART:20241027T030000
TZOFFSETFROM:+0200
TZOFFSETTO:+0100
RDATE:20251026T030000
END:STANDARD
BEGIN:DAYLIGHT
TZNAME:CEST
DTSTART:20240331T020000
TZOFFSETFROM:+0100
TZOFFSETTO:+0200
RDATE:20250330T020000
RDATE:20260329T020000
END:DAYLIGHT
END:VTIMEZONE
BEGIN:VEVENT
UID:32666137-3330-4435-a239-653064636336
DTSTAMP:20260425T161328Z
CATEGORIES:Heiligenkalender
CLASS:PUBLIC
DESCRIPTION;ALTREP="CID:<FFFF__=0ABBE548DFE235B58f9e8a93d@coffeebean.com>":
 Heiligenkalender der Orthodoxen Kirche\nAm Elften des Monats\, das Gedächt
 nis des heiligen Priestermärtyrers Vlasios\, Erzbischof von Sebasteia. An 
 diesem Tag wurden zwei Jugendliche und mit ihnen sieben Frauen durch das S
 chwert vollendet. An diesem Tag\, die Auffindung der Reliquie des heiligen
  Propheten Zacharias\, des Vaters vom heiligen Vorläufer. An diesem Tag\, 
 das Gedächntis der heiligen Königin Theodora\, die die Orthodoxie wiederhe
 rgestellt hat. \nAuswahl aus den Synaxaren des Tages\n\nVlasios Hieromarty
 rer\, Bischof von Sebastia (11. Februar)\nTheodora die Königin\, die die O
 rthodoxie wiederherstellte (11. Februar) 
DTSTART:20250210T230000Z
DTEND:20250210T230000Z
GEO:00;0
LOCATION:
ORGANIZER:
SEQUENCE:1
SUMMARY:Gedächtnis des heiligen Priestermärtyrer Vlasios\, Erzbischof von S
 ebasteia
TRANSP:OPAQUE
URL:https://www.metropolisvonaustria.at/de/component/icagenda/3476-2025-02-
 08-07-26-05/2025-02-11-00-00?Itemid=102&layout=vcal
END:VEVENT
END:VCALENDAR
