BEGIN:VCALENDAR
VERSION:2.0
PRODID:-//Heilige Metropolis von Austria -::- Ökumenisches Patriarchat//NONSGML kigkonsult.se iCalcreator 2.41.92//
CALSCALE:GREGORIAN
METHOD:PUBLISH
UID:30303464-6633-4931-b361-656236323962
X-WR-CALNAME:iCagenda
X-WR-CALDESC:Event Management Extension for Joomla!
X-WR-RELCALID:3E26604A-50F4-4449-8B3E-E4F4932D05B5
X-WR-TIMEZONE:Europe/Vienna
BEGIN:VTIMEZONE
TZID:Europe/Vienna
TZUNTIL:20261025T010000Z
BEGIN:STANDARD
TZNAME:CET
DTSTART:20241027T030000
TZOFFSETFROM:+0200
TZOFFSETTO:+0100
RDATE:20251026T030000
END:STANDARD
BEGIN:DAYLIGHT
TZNAME:CEST
DTSTART:20240331T020000
TZOFFSETFROM:+0100
TZOFFSETTO:+0200
RDATE:20250330T020000
RDATE:20260329T020000
END:DAYLIGHT
END:VTIMEZONE
BEGIN:VEVENT
UID:32333062-3038-4161-b030-653032666433
DTSTAMP:20260422T205622Z
CATEGORIES:Heiligenkalender
CLASS:PUBLIC
DESCRIPTION;ALTREP="CID:<FFFF__=0ABBE548DFE235B58f9e8a93d@coffeebean.com>":
 Heiligenkalender der Orthodoxen Kirche\nAm Sechzehnten des Monats\, das Ge
 dächtnis der heiligen Märtyrer Pamphilos\, Valent\, Paulus\, Seleukus\, Po
 rphyrius\, Julianus\, Theodoulos\, Elias\, Jeremiah\, Jesaja\, Samuel und 
 Daniel. An diesem Tag\, das Gedächtnis der heiligen Märtyrer in Martyropol
 is und des seligen Marutha\, der eine Stadt zur Ehre der Heiligen Märtyrer
  erbaut hat. An diesem Tag\, das Gedächtnis unseres Heiligen Vaters Flavia
 nus\, Patriarch von Konstantinopel.\nAuwahl aus den Synaxaren des Tages\n
 \nPamphilos Märtyrer (16. Februar)\nFlavianus seliger (16. Februar)
DTSTART:20250215T230000Z
DTEND:20250215T230000Z
GEO:00;0
LOCATION:
ORGANIZER:
SEQUENCE:1
SUMMARY:Gedächtnis des heiligen Märtyrer Pamphilos und seiner Gefolgschaft
TRANSP:OPAQUE
URL:https://www.metropolisvonaustria.at/de/component/icagenda/3488-2025-02-
 15-12-26-15/2025-02-16-00-00?Itemid=102&layout=vcal
END:VEVENT
END:VCALENDAR
