BEGIN:VCALENDAR
VERSION:2.0
PRODID:-//Heilige Metropolis von Austria -::- Ökumenisches Patriarchat//NONSGML kigkonsult.se iCalcreator 2.41.92//
CALSCALE:GREGORIAN
METHOD:PUBLISH
UID:62393363-3864-4161-b532-623533323533
X-WR-CALNAME:iCagenda
X-WR-CALDESC:Event Management Extension for Joomla!
X-WR-RELCALID:3E26604A-50F4-4449-8B3E-E4F4932D05B5
X-WR-TIMEZONE:Europe/Vienna
BEGIN:VTIMEZONE
TZID:Europe/Vienna
TZUNTIL:20261025T010000Z
BEGIN:STANDARD
TZNAME:CET
DTSTART:20241027T030000
TZOFFSETFROM:+0200
TZOFFSETTO:+0100
RDATE:20251026T030000
END:STANDARD
BEGIN:DAYLIGHT
TZNAME:CEST
DTSTART:20240331T020000
TZOFFSETFROM:+0100
TZOFFSETTO:+0200
RDATE:20250330T020000
RDATE:20260329T020000
END:DAYLIGHT
END:VTIMEZONE
BEGIN:VEVENT
UID:65646233-3838-4563-b065-656665333732
DTSTAMP:20260420T210210Z
CATEGORIES:Wien
CLASS:PUBLIC
DESCRIPTION:
DTSTART:20250309T160000Z
DTEND:20250309T173000Z
GEO:00;0
LOCATION:Kapelle des Heiligen Johannes Chrysostomos
ORGANIZER;CN=:mailto:kirche@metropolisvonaustria.at
SEQUENCE:1
SUMMARY:Vesper
TRANSP:OPAQUE
URL:https://www.metropolisvonaustria.at/de/component/icagenda/3530-vesper-2
 /2025-03-09-17-00?Itemid=102
END:VEVENT
END:VCALENDAR
