BEGIN:VCALENDAR
VERSION:2.0
PRODID:-//Heilige Metropolis von Austria -::- Ökumenisches Patriarchat//NONSGML kigkonsult.se iCalcreator 2.41.92//
CALSCALE:GREGORIAN
METHOD:PUBLISH
UID:35383033-3961-4739-a366-363931376262
X-WR-CALNAME:iCagenda
X-WR-CALDESC:Event Management Extension for Joomla!
X-WR-RELCALID:3E26604A-50F4-4449-8B3E-E4F4932D05B5
X-WR-TIMEZONE:Europe/Vienna
BEGIN:VTIMEZONE
TZID:Europe/Vienna
TZUNTIL:20261025T010000Z
BEGIN:STANDARD
TZNAME:CET
DTSTART:20241027T030000
TZOFFSETFROM:+0200
TZOFFSETTO:+0100
RDATE:20251026T030000
END:STANDARD
BEGIN:DAYLIGHT
TZNAME:CEST
DTSTART:20240331T020000
TZOFFSETFROM:+0100
TZOFFSETTO:+0200
RDATE:20250330T020000
RDATE:20260329T020000
END:DAYLIGHT
END:VTIMEZONE
BEGIN:VEVENT
UID:66386231-3064-4761-b065-363938386135
DTSTAMP:20260423T145151Z
CATEGORIES:Heiligenkalender
CLASS:PUBLIC
DESCRIPTION;ALTREP="CID:<FFFF__=0ABBE548DFE235B58f9e8a93d@coffeebean.com>":
 Heiligenkalender der Orthodoxen Kirche\nAm Zweiten des Monats\, das Gedäch
 tnis des heiligen Märtyrer Hesychios des Konsuls. An diesem Tag\, das Gedä
 chtnis des Priestermärtyrer Theodotos\, Bischof von Kerynia auf Zypern. An
  diesem Tag\, das Gedächtnis des heiligen Märtyrer Quintus des Wundetäters
 . An diesem Tag\, das Gedächtnis der heiligen Märtyrer Nestor und Tribimiu
 s. An diesem Tag\, das Gedächtnis des heiligen Märtyrer Troadios und der m
 it ihm Gefallenen während der Verfolgung von Dekius. An diesem Tag wurde d
 ie heilige Jungfra Euthalia durch das Schwert vollendet. An diesem Tag wur
 den die Heiligen Märtyrer Andronikos und Athanasia durch das Schwert volle
 ndet.
DTSTART:20250301T230000Z
DTEND:20250301T230000Z
GEO:00;0
LOCATION:
ORGANIZER:
SEQUENCE:1
SUMMARY:Gedächtnis des heiligen Hesychios des Konsuls
TRANSP:OPAQUE
URL:https://www.metropolisvonaustria.at/de/component/icagenda/3532-2025-03-
 01-18-37-23/2025-03-02-00-00?Itemid=102&layout=vcal
END:VEVENT
END:VCALENDAR
