BEGIN:VCALENDAR
VERSION:2.0
PRODID:-//Heilige Metropolis von Austria -::- Ökumenisches Patriarchat//NONSGML kigkonsult.se iCalcreator 2.41.92//
CALSCALE:GREGORIAN
METHOD:PUBLISH
UID:36343966-3266-4036-a131-313432653864
X-WR-CALNAME:iCagenda
X-WR-CALDESC:Event Management Extension for Joomla!
X-WR-RELCALID:3E26604A-50F4-4449-8B3E-E4F4932D05B5
X-WR-TIMEZONE:Europe/Vienna
BEGIN:VTIMEZONE
TZID:Europe/Vienna
TZUNTIL:20261025T010000Z
BEGIN:STANDARD
TZNAME:CET
DTSTART:20241027T030000
TZOFFSETFROM:+0200
TZOFFSETTO:+0100
RDATE:20251026T030000
END:STANDARD
BEGIN:DAYLIGHT
TZNAME:CEST
DTSTART:20250330T020000
TZOFFSETFROM:+0100
TZOFFSETTO:+0200
RDATE:20260329T020000
END:DAYLIGHT
END:VTIMEZONE
BEGIN:VEVENT
UID:38613838-3935-4831-a234-383035623733
DTSTAMP:20260421T222710Z
CATEGORIES:Wien
CLASS:PUBLIC
DESCRIPTION:
DTSTART:20250410T060000Z
DTEND:20250410T070000Z
GEO:00;0
LOCATION:Kapelle des heiligen Johannes Chrysostomos
ORGANIZER;CN=:mailto:kirche@metropolisvonaustria.at
SEQUENCE:1
SUMMARY:Göttliche Liturgie der vorgeweinten Gaben
TRANSP:OPAQUE
URL:https://www.metropolisvonaustria.at/de/component/icagenda/3601-2025-04-
 01-06-16-53/2025-04-10-08-00?Itemid=102&layout=vcal
END:VEVENT
END:VCALENDAR
