BEGIN:VCALENDAR
VERSION:2.0
PRODID:-//Heilige Metropolis von Austria -::- Ökumenisches Patriarchat//NONSGML kigkonsult.se iCalcreator 2.41.92//
CALSCALE:GREGORIAN
METHOD:PUBLISH
UID:39353139-3139-4030-b836-326430346337
X-WR-CALNAME:iCagenda
X-WR-CALDESC:Event Management Extension for Joomla!
X-WR-RELCALID:3E26604A-50F4-4449-8B3E-E4F4932D05B5
X-WR-TIMEZONE:Europe/Vienna
BEGIN:VTIMEZONE
TZID:Europe/Vienna
TZUNTIL:20271031T010000Z
BEGIN:STANDARD
TZNAME:CET
DTSTART:20251026T030000
TZOFFSETFROM:+0200
TZOFFSETTO:+0100
RDATE:20261025T030000
END:STANDARD
BEGIN:DAYLIGHT
TZNAME:CEST
DTSTART:20260329T020000
TZOFFSETFROM:+0100
TZOFFSETTO:+0200
RDATE:20270328T020000
END:DAYLIGHT
END:VTIMEZONE
BEGIN:VEVENT
UID:63333462-6166-4136-a338-653636613032
DTSTAMP:20260422T063058Z
CATEGORIES:Klagenfurt
CLASS:PUBLIC
DESCRIPTION:
DTSTART:20260411T140000Z
DTEND:20260411T140000Z
GEO:00;0
LOCATION:Kirchengemeinde Aller Heiligen
ORGANIZER;CN=:mailto:kirche@metropolisvonaustria.at
SEQUENCE:1
SUMMARY:Auferstehungsgottesdienst\, Göttliche Liturgie
TRANSP:OPAQUE
URL:https://www.metropolisvonaustria.at/de/component/icagenda/3635-2024-09-
 27-09-07-08?Itemid=102&layout=vcal
END:VEVENT
END:VCALENDAR
