BEGIN:VCALENDAR
VERSION:2.0
PRODID:-//Heilige Metropolis von Austria -::- Ökumenisches Patriarchat//NONSGML kigkonsult.se iCalcreator 2.41.92//
CALSCALE:GREGORIAN
METHOD:PUBLISH
UID:33366330-3836-4539-a463-353530613833
X-WR-CALNAME:iCagenda
X-WR-CALDESC:Event Management Extension for Joomla!
X-WR-RELCALID:3E26604A-50F4-4449-8B3E-E4F4932D05B5
X-WR-TIMEZONE:Europe/Vienna
BEGIN:VTIMEZONE
TZID:Europe/Vienna
TZUNTIL:20261025T010000Z
BEGIN:STANDARD
TZNAME:CET
DTSTART:20241027T030000
TZOFFSETFROM:+0200
TZOFFSETTO:+0100
RDATE:20251026T030000
END:STANDARD
BEGIN:DAYLIGHT
TZNAME:CEST
DTSTART:20250330T020000
TZOFFSETFROM:+0100
TZOFFSETTO:+0200
RDATE:20260329T020000
END:DAYLIGHT
END:VTIMEZONE
BEGIN:VEVENT
UID:39633738-6361-4366-a461-313736613434
DTSTAMP:20260421T213401Z
CATEGORIES:Graz
CLASS:PUBLIC
DESCRIPTION:
DTSTART:20250409T143000Z
DTEND:20250409T143000Z
GEO:00;0
LOCATION:Kirchengemeinde der Heiligen Ärzten Kosmas und Damian
ORGANIZER;CN=:mailto:kirche@metropolisvonaustria.at
SEQUENCE:1
SUMMARY:Göttliche Liturgie der vorgeweihten Gaben
TRANSP:OPAQUE
URL:https://www.metropolisvonaustria.at/de/component/icagenda/3641-2024-02-
 23-13-01-31/2025-04-09-16-30?Itemid=102&layout=vcal
END:VEVENT
END:VCALENDAR
