BEGIN:VCALENDAR
VERSION:2.0
PRODID:-//Heilige Metropolis von Austria -::- Ökumenisches Patriarchat//NONSGML kigkonsult.se iCalcreator 2.41.92//
CALSCALE:GREGORIAN
METHOD:PUBLISH
UID:66613833-3462-4137-b163-313363613031
X-WR-CALNAME:iCagenda
X-WR-CALDESC:Event Management Extension for Joomla!
X-WR-RELCALID:3E26604A-50F4-4449-8B3E-E4F4932D05B5
X-WR-TIMEZONE:Europe/Vienna
BEGIN:VTIMEZONE
TZID:Europe/Vienna
TZUNTIL:20261025T010000Z
BEGIN:STANDARD
TZNAME:CET
DTSTART:20241027T030000
TZOFFSETFROM:+0200
TZOFFSETTO:+0100
RDATE:20251026T030000
END:STANDARD
BEGIN:DAYLIGHT
TZNAME:CEST
DTSTART:20250330T020000
TZOFFSETFROM:+0100
TZOFFSETTO:+0200
RDATE:20260329T020000
END:DAYLIGHT
END:VTIMEZONE
BEGIN:VEVENT
UID:36346532-3266-4466-b666-646639373435
DTSTAMP:20260423T042924Z
CATEGORIES:Kloster Schutz der Allerheiligsten Gottesgebärerin und des Heili
 gen Paisios aus dem Berg Athos
CLASS:PUBLIC
DESCRIPTION:
DTSTART:20250413T150000Z
DTEND:20250413T150000Z
GEO:00;0
LOCATION:Kloster Schutz der Allerheiligsten Gottesgebärerin und des Heilige
 n Paisios aus dem Berg Athos
ORGANIZER;CN=:mailto:kloster@metropolisvonaustria.at
SEQUENCE:1
SUMMARY:Zeremonie des Bräutigams
TRANSP:OPAQUE
URL:https://www.metropolisvonaustria.at/de/component/icagenda/3717-2025-04-
 09-04-47-34/2025-04-13-17-00?Itemid=102&layout=vcal
END:VEVENT
END:VCALENDAR
