BEGIN:VCALENDAR
VERSION:2.0
PRODID:-//Heilige Metropolis von Austria -::- Ökumenisches Patriarchat//NONSGML kigkonsult.se iCalcreator 2.41.92//
CALSCALE:GREGORIAN
METHOD:PUBLISH
UID:36613237-6538-4833-b630-626638353532
X-WR-CALNAME:iCagenda
X-WR-CALDESC:Event Management Extension for Joomla!
X-WR-RELCALID:3E26604A-50F4-4449-8B3E-E4F4932D05B5
X-WR-TIMEZONE:Europe/Vienna
BEGIN:VTIMEZONE
TZID:Europe/Vienna
TZUNTIL:20271031T010000Z
BEGIN:STANDARD
TZNAME:CET
DTSTART:20251026T030000
TZOFFSETFROM:+0200
TZOFFSETTO:+0100
RDATE:20261025T030000
END:STANDARD
BEGIN:DAYLIGHT
TZNAME:CEST
DTSTART:20260329T020000
TZOFFSETFROM:+0100
TZOFFSETTO:+0200
RDATE:20270328T020000
END:DAYLIGHT
END:VTIMEZONE
BEGIN:VEVENT
UID:62386530-3262-4131-a664-633561353637
DTSTAMP:20260421T092933Z
CATEGORIES:Graz
CLASS:PUBLIC
DESCRIPTION;ALTREP="CID:<FFFF__=0ABBE548DFE235B58f9e8a93d@coffeebean.com>":
 Die Gottesdienste der Gemeinde werden in der Leechkirche\, Zinzendorfgasse
  2\, 8020 Graz zelebriert.
DTSTART:20260419T063000Z
DTEND:20260419T063000Z
GEO:00;0
LOCATION:Kirchengemeinde der Hl. Ärzte Kosmas und Damian
ORGANIZER;CN=:mailto:kirche@metropolisvonaustria.at
SEQUENCE:1
SUMMARY:Morgenamt\, Göttliche Liturgie
TRANSP:OPAQUE
URL:https://www.metropolisvonaustria.at/de/component/icagenda/4136-morgenam
 t,-g%C3%B6ttliche-liturgie/2026-04-19-08-30
END:VEVENT
END:VCALENDAR
