BEGIN:VCALENDAR
VERSION:2.0
PRODID:-//Heilige Metropolis von Austria -::- Ökumenisches Patriarchat//NONSGML kigkonsult.se iCalcreator 2.41.92//
CALSCALE:GREGORIAN
METHOD:PUBLISH
UID:36326431-6539-4536-b936-343034633835
X-WR-CALNAME:iCagenda
X-WR-CALDESC:Event Management Extension for Joomla!
X-WR-RELCALID:3E26604A-50F4-4449-8B3E-E4F4932D05B5
X-WR-TIMEZONE:Europe/Vienna
BEGIN:VTIMEZONE
TZID:Europe/Vienna
TZUNTIL:20271031T010000Z
BEGIN:STANDARD
TZNAME:CET
DTSTART:20251026T030000
TZOFFSETFROM:+0200
TZOFFSETTO:+0100
RDATE:20261025T030000
END:STANDARD
BEGIN:DAYLIGHT
TZNAME:CEST
DTSTART:20260329T020000
TZOFFSETFROM:+0100
TZOFFSETTO:+0200
RDATE:20270328T020000
END:DAYLIGHT
END:VTIMEZONE
BEGIN:VEVENT
UID:33323238-6331-4461-b031-646664363238
DTSTAMP:20260425T181623Z
CATEGORIES:Wien
CLASS:PUBLIC
DESCRIPTION:
DTSTART:20260425T150000Z
DTEND:20260425T160000Z
GEO:+48.211201;+16.376736
LOCATION:Kirche zum Heiligen Georg
ORGANIZER;CN=:mailto:kirche@metropolisvonaustria.at
SEQUENCE:1
SUMMARY:Vesper
TRANSP:OPAQUE
URL:https://www.metropolisvonaustria.at/de/component/icagenda/4262-Vesper-H
 L-Georg-de/2026-04-25-17-00?layout=vcal
END:VEVENT
END:VCALENDAR
