BEGIN:VCALENDAR
VERSION:2.0
PRODID:-//Heilige Metropolis von Austria -::- Ökumenisches Patriarchat//NONSGML kigkonsult.se iCalcreator 2.41.92//
CALSCALE:GREGORIAN
METHOD:PUBLISH
UID:36323533-3338-4964-b531-636161623635
X-WR-CALNAME:iCagenda
X-WR-CALDESC:Event Management Extension for Joomla!
X-WR-RELCALID:3E26604A-50F4-4449-8B3E-E4F4932D05B5
X-WR-TIMEZONE:Europe/Vienna
BEGIN:VTIMEZONE
TZID:Europe/Vienna
TZUNTIL:20271031T010000Z
BEGIN:STANDARD
TZNAME:CET
DTSTART:20251026T030000
TZOFFSETFROM:+0200
TZOFFSETTO:+0100
RDATE:20261025T030000
END:STANDARD
BEGIN:DAYLIGHT
TZNAME:CEST
DTSTART:20260329T020000
TZOFFSETFROM:+0100
TZOFFSETTO:+0200
RDATE:20270328T020000
END:DAYLIGHT
END:VTIMEZONE
BEGIN:VEVENT
UID:39393462-6333-4861-b761-343862653064
DTSTAMP:20260421T052444Z
CATEGORIES:Heiligenkalender
CLASS:PUBLIC
DESCRIPTION;ALTREP="CID:<FFFF__=0ABBE548DFE235B58f9e8a93d@coffeebean.com>":
 Heiligenkalender der Orthodoxen Kirche\nAm Fünfundzwanzigsten des Monats\,
  das Gedächtnis des heiligen und Evangelisten Markus. An diesem Tag\, das 
 Gedächtnis der Einweihung der Apostolischen Kapelle des heiligen\, ruhmrei
 chen Koryphäen der Apostel Petrus\, das neben der heiligsten Großen Kirche
  gebaut war. An diesem Tag\, das Gedächtnis unseres heiligen Vaters Makedo
 nios\, Patriarch von Konstantinopel. An diesem Tag\, das Gedächtnis der he
 iligen Märtyrerin Nike. An idesem Tag\, das Gedächtnis der heiligen acht s
 eligen Märtyrer und Einsiedler. 
DTSTART:20260424T220000Z
DTEND:20260424T220000Z
GEO:00;0
LOCATION:
ORGANIZER:
SEQUENCE:1
SUMMARY:Gedächtnis des heiligen und Evangelisten Markus
TRANSP:OPAQUE
URL:https://www.metropolisvonaustria.at/de/gesamtliste/3785-2025-04-18-07-5
 8-27/2026-04-25-00-00
END:VEVENT
END:VCALENDAR
