BEGIN:VCALENDAR
VERSION:2.0
PRODID:-//Heilige Metropolis von Austria -::- Ökumenisches Patriarchat//NONSGML kigkonsult.se iCalcreator 2.41.92//
CALSCALE:GREGORIAN
METHOD:PUBLISH
UID:35353163-3062-4535-b463-383135393562
X-WR-CALNAME:iCagenda
X-WR-CALDESC:Event Management Extension for Joomla!
X-WR-RELCALID:3E26604A-50F4-4449-8B3E-E4F4932D05B5
X-WR-TIMEZONE:Europe/Vienna
BEGIN:VTIMEZONE
TZID:Europe/Vienna
TZUNTIL:20271031T010000Z
BEGIN:STANDARD
TZNAME:CET
DTSTART:20251026T030000
TZOFFSETFROM:+0200
TZOFFSETTO:+0100
RDATE:20261025T030000
END:STANDARD
BEGIN:DAYLIGHT
TZNAME:CEST
DTSTART:20260329T020000
TZOFFSETFROM:+0100
TZOFFSETTO:+0200
RDATE:20270328T020000
END:DAYLIGHT
END:VTIMEZONE
BEGIN:VEVENT
UID:32326365-3434-4030-a439-323462353466
DTSTAMP:20260421T064530Z
CATEGORIES:Heiligenkalender
CLASS:PUBLIC
DESCRIPTION;ALTREP="CID:<FFFF__=0ABBE548DFE235B58f9e8a93d@coffeebean.com>":
 Heiligenkalender der Orthodoxen Kirche\nAm Sechsundzwanzigsten des Monats\
 , das Gedächtnis des Heiligen Priestermärtyrer Basileios von Amaseia. An d
 iesem Tag wurde die heilige Glaphyra in Frieden vollendet. An diesem Tag w
 urde die selige Justa in Frieden vollendet. An diesem Tag wurde seliger Ne
 stor in Frieden vollendet\, der seine Eltern verlassen hat und ins Kloster
  gezogen ist.
DTSTART:20260426T065100Z
DTEND:20260426T065100Z
GEO:00;0
LOCATION:
ORGANIZER:
SEQUENCE:1
SUMMARY:Gedächtnis des Heiligen Priestermärtyrer Basileios von Amaseia
TRANSP:OPAQUE
URL:https://www.metropolisvonaustria.at/de/gesamtliste/3789-2025-04-26-11-4
 8-29/2026-04-26-08-51
END:VEVENT
END:VCALENDAR
