BEGIN:VCALENDAR
VERSION:2.0
PRODID:-//Heilige Metropolis von Austria -::- Ökumenisches Patriarchat//NONSGML kigkonsult.se iCalcreator 2.41.92//
CALSCALE:GREGORIAN
METHOD:PUBLISH
UID:30363439-3837-4961-a666-633336393739
X-WR-CALNAME:iCagenda
X-WR-CALDESC:Event Management Extension for Joomla!
X-WR-RELCALID:3E26604A-50F4-4449-8B3E-E4F4932D05B5
X-WR-TIMEZONE:Europe/Vienna
BEGIN:VTIMEZONE
TZID:Europe/Vienna
TZUNTIL:20280326T010000Z
BEGIN:STANDARD
TZNAME:CET
DTSTART:20251026T030000
TZOFFSETFROM:+0200
TZOFFSETTO:+0100
RDATE:20261025T030000
RDATE:20271031T030000
END:STANDARD
BEGIN:DAYLIGHT
TZNAME:CEST
DTSTART:20260329T020000
TZOFFSETFROM:+0100
TZOFFSETTO:+0200
RDATE:20270328T020000
END:DAYLIGHT
END:VTIMEZONE
BEGIN:VEVENT
UID:35323462-3263-4236-b861-326334643936
DTSTAMP:20260421T065503Z
CATEGORIES:Heiligenkalender
CLASS:PUBLIC
DESCRIPTION;ALTREP="CID:<FFFF__=0ABBE548DFE235B58f9e8a93d@coffeebean.com>":
 Heiligenkalender der Orthodoxen Kirche\nAm Sechsten des Monats\, das Gedäc
 htnis des heiligen und gerechten Hiob. An diesem Tag\, das Gedächtnis unse
 res seligen und gotttragenden Vaters Serafim des Siedlers vom Berg Dombou.
  An diesem Tag wurden die seligen Mamas\, Pachomios und Jarion in Frieden 
 vollendet. An diesem Tag wurde der heilige Märtyrer Demetrion durch den Bo
 gen vollendet. Die heiligen Märtyrer Danax\, Mesiros und Therinos wurden d
 urch das Schwert vollendet. Der heilige Märtyrer Donatos wurde durch den B
 ogen vollendet. Der heilige Märtyrer Barbaros durch das Schwert vollendet.
  Die Synaxe der oben genannten Heiligen wird an der Stätte ihres Leidens i
 n Deuteron gefeiert.\n 
DTSTART:20260505T220000Z
DTEND:20260505T220000Z
GEO:00;0
LOCATION:
ORGANIZER:
SEQUENCE:1
SUMMARY:Gedächtnis des heiligen und gerechten Hiob
TRANSP:OPAQUE
URL:https://www.metropolisvonaustria.at/de/gesamtliste/3804-2025-05-06-06-4
 7-53/2026-05-06-00-00
END:VEVENT
END:VCALENDAR
