BEGIN:VCALENDAR
VERSION:2.0
PRODID:-//Heilige Metropolis von Austria -::- Ökumenisches Patriarchat//NONSGML kigkonsult.se iCalcreator 2.41.92//
CALSCALE:GREGORIAN
METHOD:PUBLISH
UID:31656661-6334-4731-b766-306434356565
X-WR-CALNAME:iCagenda
X-WR-CALDESC:Event Management Extension for Joomla!
X-WR-RELCALID:3E26604A-50F4-4449-8B3E-E4F4932D05B5
X-WR-TIMEZONE:Europe/Vienna
BEGIN:VTIMEZONE
TZID:Europe/Vienna
TZUNTIL:20280326T010000Z
BEGIN:STANDARD
TZNAME:CET
DTSTART:20251026T030000
TZOFFSETFROM:+0200
TZOFFSETTO:+0100
RDATE:20261025T030000
RDATE:20271031T030000
END:STANDARD
BEGIN:DAYLIGHT
TZNAME:CEST
DTSTART:20260329T020000
TZOFFSETFROM:+0100
TZOFFSETTO:+0200
RDATE:20270328T020000
END:DAYLIGHT
END:VTIMEZONE
BEGIN:VEVENT
UID:34356135-3632-4431-b563-333636633237
DTSTAMP:20260421T064214Z
CATEGORIES:Heiligenkalender
CLASS:PUBLIC
DESCRIPTION;ALTREP="CID:<FFFF__=0ABBE548DFE235B58f9e8a93d@coffeebean.com>":
 Heiligenkalender der Orthodoxen Kirche\nAm Siebten des Monats\, das Gedäch
 tnis der Erscheinung des Heiligen Kreuzes im Himmel in der Zeit vom Konsta
 nz\, des des Hl. Konstantin des Großen. Das Gedächtnis des heiligen Kyrill
 \, Erzbischof von Jerusalem. An diesem Tag\, das Gedächtnis des heiligen M
 ärtyrer Akakios. An diesem Tag\, das Martyrium des heiligen Märtyrer Kodra
 tos und seiner Gefährten. An diesem Tag\, das Gedächtnis unseres seligen V
 aters und Bekenners Johanes aus Psychaita. An diesem Tag\, das Martyrium d
 es heiligen Märtyrer Maximos.
DTSTART:20260506T220000Z
DTEND:20260506T220000Z
GEO:00;0
LOCATION:
ORGANIZER:
SEQUENCE:1
SUMMARY:Gedächtnis der Erscheinung des Heiligen Kreuzes im Himmel in der Ze
 it von Konstanz\, des Sohnes des Hl. Konstantin des Großen
TRANSP:OPAQUE
URL:https://www.metropolisvonaustria.at/de/gesamtliste/3806-2025-05-07-08-5
 1-49/2026-05-07-00-00
END:VEVENT
END:VCALENDAR
