BEGIN:VCALENDAR
VERSION:2.0
PRODID:-//Heilige Metropolis von Austria -::- Ökumenisches Patriarchat//NONSGML kigkonsult.se iCalcreator 2.41.92//
CALSCALE:GREGORIAN
METHOD:PUBLISH
UID:36356232-6265-4339-b262-326631613962
X-WR-CALNAME:iCagenda
X-WR-CALDESC:Event Management Extension for Joomla!
X-WR-RELCALID:3E26604A-50F4-4449-8B3E-E4F4932D05B5
X-WR-TIMEZONE:Europe/Vienna
BEGIN:VTIMEZONE
TZID:Europe/Vienna
TZUNTIL:20280326T010000Z
BEGIN:STANDARD
TZNAME:CET
DTSTART:20251026T030000
TZOFFSETFROM:+0200
TZOFFSETTO:+0100
RDATE:20261025T030000
RDATE:20271031T030000
END:STANDARD
BEGIN:DAYLIGHT
TZNAME:CEST
DTSTART:20260329T020000
TZOFFSETFROM:+0100
TZOFFSETTO:+0200
RDATE:20270328T020000
END:DAYLIGHT
END:VTIMEZONE
BEGIN:VEVENT
UID:30383361-3934-4061-a533-383932306233
DTSTAMP:20260421T064234Z
CATEGORIES:Heiligenkalender
CLASS:PUBLIC
DESCRIPTION;ALTREP="CID:<FFFF__=0ABBE548DFE235B58f9e8a93d@coffeebean.com>":
 Heiligenkalender der Orthodoxen Kirche\nAm Zehnten des Monats\, das Gedäch
 tnis des heilIgen Apostel Simon des Zeloten. An diesem Tag\, das Gedächtni
 s der heiligen Märtyrer Alphäus\, Philadelphus und Cyprinus. An diesem Tag
 \, das Gedächtnis unseres seligen Vaters Hesychios des Bekenners. Unser he
 ilige Vater Laurentius wurde in Frieden vollendet.
DTSTART:20260509T220000Z
DTEND:20260509T220000Z
GEO:00;0
LOCATION:
ORGANIZER:
SEQUENCE:1
SUMMARY:Gedächtnis des Heiligen Apostel Simon des Zeloten
TRANSP:OPAQUE
URL:https://www.metropolisvonaustria.at/de/gesamtliste/3812-2025-05-10-06-3
 1-21/2026-05-10-00-00
END:VEVENT
END:VCALENDAR
