BEGIN:VCALENDAR
VERSION:2.0
PRODID:-//Heilige Metropolis von Austria -::- Ökumenisches Patriarchat//NONSGML kigkonsult.se iCalcreator 2.41.92//
CALSCALE:GREGORIAN
METHOD:PUBLISH
UID:36623162-3233-4463-b765-316163623063
X-WR-CALNAME:iCagenda
X-WR-CALDESC:Event Management Extension for Joomla!
X-WR-RELCALID:3E26604A-50F4-4449-8B3E-E4F4932D05B5
X-WR-TIMEZONE:Europe/Vienna
BEGIN:VTIMEZONE
TZID:Europe/Vienna
TZUNTIL:20280326T010000Z
BEGIN:STANDARD
TZNAME:CET
DTSTART:20251026T030000
TZOFFSETFROM:+0200
TZOFFSETTO:+0100
RDATE:20261025T030000
RDATE:20271031T030000
END:STANDARD
BEGIN:DAYLIGHT
TZNAME:CEST
DTSTART:20260329T020000
TZOFFSETFROM:+0100
TZOFFSETTO:+0200
RDATE:20270328T020000
END:DAYLIGHT
END:VTIMEZONE
BEGIN:VEVENT
UID:31363431-3238-4438-b133-613065326134
DTSTAMP:20260421T064625Z
CATEGORIES:Heiligenkalender
CLASS:PUBLIC
DESCRIPTION;ALTREP="CID:<FFFF__=0ABBE548DFE235B58f9e8a93d@coffeebean.com>":
 Heiligenkalender der Orthodoxen Kirche\nAm Zwölften des Monats\, das Gedäc
 htnis unseres heiligen Vaters Epiphanios\, Bischof von Konstantia auf Zype
 rn. Am diesem Tag\, das Gedächtnis unseres heiligen Vaters Germanos\, Erzb
 ischof von Konstantinopel.
DTSTART:20260511T220000Z
DTEND:20260511T220000Z
GEO:00;0
LOCATION:
ORGANIZER:
SEQUENCE:1
SUMMARY:Gedächtnis unserer Heiligen Väter Epiphanios von Zypern und Germano
 s von Konstantinopel
TRANSP:OPAQUE
URL:https://www.metropolisvonaustria.at/de/gesamtliste/3816-2025-05-12-10-3
 2-05/2026-05-12-00-00
END:VEVENT
END:VCALENDAR
