BEGIN:VCALENDAR
VERSION:2.0
PRODID:-//Heilige Metropolis von Austria -::- Ökumenisches Patriarchat//NONSGML kigkonsult.se iCalcreator 2.41.92//
CALSCALE:GREGORIAN
METHOD:PUBLISH
UID:38313862-6131-4563-b863-623266386162
X-WR-CALNAME:iCagenda
X-WR-CALDESC:Event Management Extension for Joomla!
X-WR-RELCALID:3E26604A-50F4-4449-8B3E-E4F4932D05B5
X-WR-TIMEZONE:Europe/Vienna
BEGIN:VTIMEZONE
TZID:Europe/Vienna
TZUNTIL:20280326T010000Z
BEGIN:STANDARD
TZNAME:CET
DTSTART:20251026T030000
TZOFFSETFROM:+0200
TZOFFSETTO:+0100
RDATE:20261025T030000
RDATE:20271031T030000
END:STANDARD
BEGIN:DAYLIGHT
TZNAME:CEST
DTSTART:20260329T020000
TZOFFSETFROM:+0100
TZOFFSETTO:+0200
RDATE:20270328T020000
END:DAYLIGHT
END:VTIMEZONE
BEGIN:VEVENT
UID:39643734-3963-4565-b632-333033653465
DTSTAMP:20260421T064640Z
CATEGORIES:Heiligenkalender
CLASS:PUBLIC
DESCRIPTION;ALTREP="CID:<FFFF__=0ABBE548DFE235B58f9e8a93d@coffeebean.com>":
 Heiligenkalender der Orthodoxen Kirche\nAm Achten des Monats\, das Gedächt
 nis des heiligen und glorreichen Apostels und Evangelisten\, des eigenen F
 reundes des Herrn\, geliebten und jungfräulichen Johannes des Theologen\, 
 d. h. die Synaxe wegen des erzeugten Staubs\, der „Manna“ genannt wird\, a
 us dem Grab des Heiligen Johannes. An diesem Tag das Gedächtnis unseres se
 ligen Vaters Arsenios des Großen.
DTSTART:20260507T220000Z
DTEND:20260507T220000Z
GEO:00;0
LOCATION:
ORGANIZER:
SEQUENCE:1
SUMMARY:Gedächtnis des heiligen und glorreichen Apostel und Evangelisten Jo
 hannes des Theologen und unseres seligen Vaters Arsenios des Großen
TRANSP:OPAQUE
URL:https://www.metropolisvonaustria.at/de/gesamtliste/3818-2025-05-14-08-2
 2-57/2026-05-08-00-00
END:VEVENT
END:VCALENDAR
