BEGIN:VCALENDAR
VERSION:2.0
PRODID:-//Heilige Metropolis von Austria -::- Ökumenisches Patriarchat//NONSGML kigkonsult.se iCalcreator 2.41.92//
CALSCALE:GREGORIAN
METHOD:PUBLISH
UID:63323833-6138-4962-b933-643364383061
X-WR-CALNAME:iCagenda
X-WR-CALDESC:Event Management Extension for Joomla!
X-WR-RELCALID:3E26604A-50F4-4449-8B3E-E4F4932D05B5
X-WR-TIMEZONE:Europe/Vienna
BEGIN:VTIMEZONE
TZID:Europe/Vienna
TZUNTIL:20280326T010000Z
BEGIN:STANDARD
TZNAME:CET
DTSTART:20251026T030000
TZOFFSETFROM:+0200
TZOFFSETTO:+0100
RDATE:20261025T030000
RDATE:20271031T030000
END:STANDARD
BEGIN:DAYLIGHT
TZNAME:CEST
DTSTART:20260329T020000
TZOFFSETFROM:+0100
TZOFFSETTO:+0200
RDATE:20270328T020000
END:DAYLIGHT
END:VTIMEZONE
BEGIN:VEVENT
UID:37393531-3165-4261-b731-316663366266
DTSTAMP:20260421T065214Z
CATEGORIES:Heiligenkalender
CLASS:PUBLIC
DESCRIPTION;ALTREP="CID:<FFFF__=0ABBE548DFE235B58f9e8a93d@coffeebean.com>":
 Heiligenkalender der Orthodoxen Kirche\nAm Zweiten des Monats\, das Gedäch
 tnis der Übetragung der Reliquien unseres heiligen Vaters Athanasius von A
 lexandrien des Großen. An diesem Tag\, das Gedächtnis vom Kampf der heilig
 en Märtyrer Vesper und Zoe\, seiner Gattin und ihrer Kinder\, Kyriakos und
  Theodoulos.\nAuswahl aus den Synaxaren des Tages\n\nAthanasios\, Erzbisch
 of von Alexandrien (17. Januar\, 2. Mai)
DTSTART:20260501T220000Z
DTEND:20260501T220000Z
GEO:00;0
LOCATION:
ORGANIZER:
SEQUENCE:1
SUMMARY:Gedächtnis der Übertragung der Reliquien unseres heiligen Vaters At
 hanasius von Alexandrien des Großen
TRANSP:OPAQUE
URL:https://www.metropolisvonaustria.at/de/gesamtliste/3862-2025-06-14-06-3
 0-02/2026-05-02-00-00
END:VEVENT
END:VCALENDAR
