BEGIN:VCALENDAR
VERSION:2.0
PRODID:-//Heilige Metropolis von Austria -::- Ökumenisches Patriarchat//NONSGML kigkonsult.se iCalcreator 2.41.92//
CALSCALE:GREGORIAN
METHOD:PUBLISH
UID:66636264-3730-4335-a564-353338643262
X-WR-CALNAME:iCagenda
X-WR-CALDESC:Event Management Extension for Joomla!
X-WR-RELCALID:3E26604A-50F4-4449-8B3E-E4F4932D05B5
X-WR-TIMEZONE:Europe/Vienna
BEGIN:VTIMEZONE
TZID:Europe/Vienna
TZUNTIL:20280326T010000Z
BEGIN:STANDARD
TZNAME:CET
DTSTART:20251026T030000
TZOFFSETFROM:+0200
TZOFFSETTO:+0100
RDATE:20261025T030000
RDATE:20271031T030000
END:STANDARD
BEGIN:DAYLIGHT
TZNAME:CEST
DTSTART:20260329T020000
TZOFFSETFROM:+0100
TZOFFSETTO:+0200
RDATE:20270328T020000
END:DAYLIGHT
END:VTIMEZONE
BEGIN:VEVENT
UID:30306433-3665-4364-b835-613865613537
DTSTAMP:20260421T064747Z
CATEGORIES:Heiligenkalender
CLASS:PUBLIC
DESCRIPTION;ALTREP="CID:<FFFF__=0ABBE548DFE235B58f9e8a93d@coffeebean.com>":
 Heiligenkalender der Orthodoxen Kirche\nAm Dritten des Monats\, das Gedäch
 tnis der heiligen Märtyrer Timotheus und Maura. An diesem Tag\, das Gedäch
 tnis des Martyriums der heiligen Diodoros und Rodopianos des Diakons. An d
 iesem Tag\, das Gedächtnis unsers seligen Vaters Petros des Wundertäters u
 nd Bischofs von Argos. 20 heiligen Märtyrer wurden durch das Feuer vollend
 et.
DTSTART:20260502T220000Z
DTEND:20260502T220000Z
GEO:00;0
LOCATION:
ORGANIZER:
SEQUENCE:1
SUMMARY:Gedächtnis der heiligen Märtyrer Timotheus und Maura
TRANSP:OPAQUE
URL:https://www.metropolisvonaustria.at/de/gesamtliste/3864-2025-06-14-06-3
 5-44/2026-05-03-00-00
END:VEVENT
END:VCALENDAR
