BEGIN:VCALENDAR
VERSION:2.0
PRODID:-//Heilige Metropolis von Austria -::- Ökumenisches Patriarchat//NONSGML kigkonsult.se iCalcreator 2.41.92//
CALSCALE:GREGORIAN
METHOD:PUBLISH
UID:64346565-6233-4334-a266-323936643638
X-WR-CALNAME:iCagenda
X-WR-CALDESC:Event Management Extension for Joomla!
X-WR-RELCALID:3E26604A-50F4-4449-8B3E-E4F4932D05B5
X-WR-TIMEZONE:Europe/Vienna
BEGIN:VTIMEZONE
TZID:Europe/Vienna
TZUNTIL:20280326T010000Z
BEGIN:STANDARD
TZNAME:CET
DTSTART:20251026T030000
TZOFFSETFROM:+0200
TZOFFSETTO:+0100
RDATE:20261025T030000
RDATE:20271031T030000
END:STANDARD
BEGIN:DAYLIGHT
TZNAME:CEST
DTSTART:20260329T020000
TZOFFSETFROM:+0100
TZOFFSETTO:+0200
RDATE:20270328T020000
END:DAYLIGHT
END:VTIMEZONE
BEGIN:VEVENT
UID:39366662-6261-4531-a337-326635313530
DTSTAMP:20260421T065412Z
CATEGORIES:Heiligenkalender
CLASS:PUBLIC
DESCRIPTION;ALTREP="CID:<FFFF__=0ABBE548DFE235B58f9e8a93d@coffeebean.com>":
 Heiligenkalender der Orthodoxen Kirche\nAm Vierten des Monats\, das Gedäch
 tis der heiligen Märtyrerin Pelagia. An diesem Tag\, das Gedächtis unsers 
 seligen Vaters Hilarion des Wundertäters.
DTSTART:20260503T220000Z
DTEND:20260503T220000Z
GEO:00;0
LOCATION:
ORGANIZER:
SEQUENCE:1
SUMMARY:Gedächtnis der heiligen Pelagia
TRANSP:OPAQUE
URL:https://www.metropolisvonaustria.at/de/gesamtliste/3866-2025-06-14-06-4
 3-11/2026-05-04-00-00
END:VEVENT
END:VCALENDAR
