BEGIN:VCALENDAR
VERSION:2.0
PRODID:-//Heilige Metropolis von Austria -::- Ökumenisches Patriarchat//NONSGML kigkonsult.se iCalcreator 2.41.92//
CALSCALE:GREGORIAN
METHOD:PUBLISH
UID:36363636-3235-4136-b235-616366613037
X-WR-CALNAME:iCagenda
X-WR-CALDESC:Event Management Extension for Joomla!
X-WR-RELCALID:3E26604A-50F4-4449-8B3E-E4F4932D05B5
X-WR-TIMEZONE:Europe/Vienna
BEGIN:VTIMEZONE
TZID:Europe/Vienna
TZUNTIL:20280326T010000Z
BEGIN:STANDARD
TZNAME:CET
DTSTART:20251026T030000
TZOFFSETFROM:+0200
TZOFFSETTO:+0100
RDATE:20261025T030000
RDATE:20271031T030000
END:STANDARD
BEGIN:DAYLIGHT
TZNAME:CEST
DTSTART:20260329T020000
TZOFFSETFROM:+0100
TZOFFSETTO:+0200
RDATE:20270328T020000
END:DAYLIGHT
END:VTIMEZONE
BEGIN:VEVENT
UID:31666664-3762-4039-b230-616666633961
DTSTAMP:20260421T063950Z
CATEGORIES:Heiligenkalender
CLASS:PUBLIC
DESCRIPTION;ALTREP="CID:<FFFF__=0ABBE548DFE235B58f9e8a93d@coffeebean.com>":
 Heiligenkalender der Orthodoxen Kirche\nAm Fünften des Monats\, das Gedäch
 tnis der heiligen Großmärtyrin Irene. An diesem Tag\, das Gedächtnis des M
 artyriums der heiligen Märtyrer Neophyt\, Gaius\, Gaianus. Eine Synaxe wir
 d in der Kirche der heiligen Ärzten Kosma und Damian im Gebiet von Dareios
 . An diesem Tag\, das Gedächtnis der Einweihung der Kirche zur Allerheilig
 en Gottesgebärerin im Gebiet von Kyros.\n 
DTSTART:20260504T220000Z
DTEND:20260504T220000Z
GEO:00;0
LOCATION:
ORGANIZER:
SEQUENCE:1
SUMMARY:Gedächtnis der heiligen und glorreichen Großmärtyrerin Irene
TRANSP:OPAQUE
URL:https://www.metropolisvonaustria.at/de/gesamtliste/3868-2025-06-14-06-4
 6-02/2026-05-05-00-00
END:VEVENT
END:VCALENDAR
