BEGIN:VCALENDAR
VERSION:2.0
PRODID:-//Heilige Metropolis von Austria -::- Ökumenisches Patriarchat//NONSGML kigkonsult.se iCalcreator 2.41.92//
CALSCALE:GREGORIAN
METHOD:PUBLISH
UID:63643963-3764-4433-b061-643337303538
X-WR-CALNAME:iCagenda
X-WR-CALDESC:Event Management Extension for Joomla!
X-WR-RELCALID:3E26604A-50F4-4449-8B3E-E4F4932D05B5
X-WR-TIMEZONE:Europe/Vienna
BEGIN:VTIMEZONE
TZID:Europe/Vienna
TZUNTIL:20280326T010000Z
BEGIN:STANDARD
TZNAME:CET
DTSTART:20251026T030000
TZOFFSETFROM:+0200
TZOFFSETTO:+0100
RDATE:20261025T030000
RDATE:20271031T030000
END:STANDARD
BEGIN:DAYLIGHT
TZNAME:CEST
DTSTART:20260329T020000
TZOFFSETFROM:+0100
TZOFFSETTO:+0200
RDATE:20270328T020000
END:DAYLIGHT
END:VTIMEZONE
BEGIN:VEVENT
UID:65386338-6235-4136-b834-666131623161
DTSTAMP:20260421T064535Z
CATEGORIES:Heiligenkalender
CLASS:PUBLIC
DESCRIPTION;ALTREP="CID:<FFFF__=0ABBE548DFE235B58f9e8a93d@coffeebean.com>":
 Heiligenkalender der Orthodoxen Kirche\nAm Dreizehnten des Monats\, das Ge
 dächtnis der heiligen Märtyrerin Glykeria. An diesem Tag\, das Gedächtnis 
 unseres seligen Vaters Sergius des Bekenners. An diesem Tag\, das Gedächtn
 is unseres seligen Vaters Pausikakos\, Bischof von Synades. Der heilige Al
 exander\, Bischof von Tiberianen\, wurde durch das Schwert vollendet. Der 
 selige Euthymios der Neue\, der Stifter des Iberon-Klosters auf dem Berg A
 thos\, und des Johannes aus Georgien\, des Vaterr von Euthymios\, und Geor
 g ihres Verwandten wurden an diesem Tag vollendet. Der selige Gabriel aus 
 Georgien\, der die Stimme Gottes gehorchen hat und aus dem Meer die Ikone 
 der Portaitissa geholt hat\, wurde in Frieden vollendet. Die heilige Pries
 termärtyrer aus Iberonkloster\, die den König Michael und den Patriarchen 
 Ioannis Bekkos geurteilt haben\, wurden ins Meer geworfen und vollendet.
DTSTART:20260512T220000Z
DTEND:20260512T220000Z
GEO:00;0
LOCATION:
ORGANIZER:
SEQUENCE:1
SUMMARY:Gedächtnis der heiligen Glykeria
TRANSP:OPAQUE
URL:https://www.metropolisvonaustria.at/de/gesamtliste/3870-2025-06-14-06-5
 2-38/2026-05-13-00-00
END:VEVENT
END:VCALENDAR
