BEGIN:VCALENDAR
VERSION:2.0
PRODID:-//Heilige Metropolis von Austria -::- Ökumenisches Patriarchat//NONSGML kigkonsult.se iCalcreator 2.41.92//
CALSCALE:GREGORIAN
METHOD:PUBLISH
UID:33373536-6136-4334-a330-383230313563
X-WR-CALNAME:iCagenda
X-WR-CALDESC:Event Management Extension for Joomla!
X-WR-RELCALID:3E26604A-50F4-4449-8B3E-E4F4932D05B5
X-WR-TIMEZONE:Europe/Vienna
BEGIN:VTIMEZONE
TZID:Europe/Vienna
TZUNTIL:20271031T010000Z
BEGIN:STANDARD
TZNAME:CET
DTSTART:20251026T030000
TZOFFSETFROM:+0200
TZOFFSETTO:+0100
RDATE:20261025T030000
END:STANDARD
BEGIN:DAYLIGHT
TZNAME:CEST
DTSTART:20260329T020000
TZOFFSETFROM:+0100
TZOFFSETTO:+0200
RDATE:20270328T020000
END:DAYLIGHT
END:VTIMEZONE
BEGIN:VEVENT
UID:39356136-6162-4762-b063-643834353239
DTSTAMP:20260421T065825Z
CATEGORIES:Graz
CLASS:PUBLIC
DESCRIPTION:
DTSTART:20260425T160000Z
DTEND:20260425T160000Z
GEO:00;0
LOCATION:Kirchengemeinde der Hl. Ärzte Kosmas und Damian
ORGANIZER;CN=:mailto:kirche@metropolisvonaustria.at
SEQUENCE:1
SUMMARY:Vesper
TRANSP:OPAQUE
URL:https://www.metropolisvonaustria.at/de/gesamtliste/4138-Vesper%20in%20G
 raz/2026-04-25-18-00
END:VEVENT
END:VCALENDAR
