BEGIN:VCALENDAR
VERSION:2.0
PRODID:-//Ἱερὰ Μητρόπολη Αὐστρίας -::- Οἰκουμενικὸ Πατριαρχείο//NONSGML kigkonsult.se iCalcreator 2.41.92//
CALSCALE:GREGORIAN
METHOD:PUBLISH
UID:62666238-6431-4737-b134-336661316139
X-WR-CALNAME:iCagenda
X-WR-CALDESC:Event Management Extension for Joomla!
X-WR-RELCALID:3E26604A-50F4-4449-8B3E-E4F4932D05B5
X-WR-TIMEZONE:Europe/Vienna
BEGIN:VTIMEZONE
TZID:Europe/Vienna
TZUNTIL:20271031T010000Z
BEGIN:STANDARD
TZNAME:CET
DTSTART:20251026T030000
TZOFFSETFROM:+0200
TZOFFSETTO:+0100
RDATE:20261025T030000
END:STANDARD
BEGIN:DAYLIGHT
TZNAME:CEST
DTSTART:20260329T020000
TZOFFSETFROM:+0100
TZOFFSETTO:+0200
RDATE:20270328T020000
END:DAYLIGHT
END:VTIMEZONE
BEGIN:VEVENT
UID:63366165-6161-4436-a663-613161636563
DTSTAMP:20260421T100126Z
CATEGORIES:Heiligenkalender
CLASS:PUBLIC
DESCRIPTION;ALTREP="CID:<FFFF__=0ABBE548DFE235B58f9e8a93d@coffeebean.com>":
 Ἁγιολόγιον τῆς Ὀρθοδόξου Ἐκκλησίας\nΤῇ ΚΣΤ' τοῦ αὐτοῦ μηνός\, Μνήμη τοῦ Ἁγ
 ίου Ἱερομάρτυρος Βασιλέως\, Ἐπισκόπου Ἀμασείας. Τῇ αὐτῇ ἡμέρᾳ\, ἡ Ἁγία Γλα
 φύρα ἐν εἰρήνῃ τελειοῦται. Τῇ αὐτῇ ἡμέρᾳ\, ἡ Ὁσία Ἰούστα ἐν εἰρήνῃ τελειοῦ
 ται. Τῇ αὐτῇ ἡμέρᾳ\, ὁ Ὅσιος Νέστωρ\, τοὺς γονεῖς καταλιπὼν καὶ μονάσας\, 
 ἐν εἰρήνῃ τελειοῦται.
DTSTART:20260426T065000Z
DTEND:20260426T065000Z
GEO:00;0
LOCATION:
ORGANIZER:
SEQUENCE:1
SUMMARY:Μνήμη τοῦ Ἁγίου Ἱερομάρτυρος Βασιλέως\, Ἐπισκόπου Ἀμασείας.
TRANSP:OPAQUE
URL:https://www.metropolisvonaustria.at/el/component/icagenda/3788-2025-04-
 26-11-48-30/2026-04-26-08-50?Itemid=224
END:VEVENT
END:VCALENDAR
