BEGIN:VCALENDAR
VERSION:2.0
PRODID:-//Ἱερὰ Μητρόπολη Αὐστρίας -::- Οἰκουμενικὸ Πατριαρχείο//NONSGML kigkonsult.se iCalcreator 2.41.92//
CALSCALE:GREGORIAN
METHOD:PUBLISH
UID:30376666-3866-4265-a639-663334303935
X-WR-CALNAME:iCagenda
X-WR-CALDESC:Event Management Extension for Joomla!
X-WR-RELCALID:3E26604A-50F4-4449-8B3E-E4F4932D05B5
X-WR-TIMEZONE:Europe/Vienna
BEGIN:VTIMEZONE
TZID:Europe/Vienna
TZUNTIL:20271031T010000Z
BEGIN:STANDARD
TZNAME:CET
DTSTART:20251026T030000
TZOFFSETFROM:+0200
TZOFFSETTO:+0100
RDATE:20261025T030000
END:STANDARD
BEGIN:DAYLIGHT
TZNAME:CEST
DTSTART:20260329T020000
TZOFFSETFROM:+0100
TZOFFSETTO:+0200
RDATE:20270328T020000
END:DAYLIGHT
END:VTIMEZONE
BEGIN:VEVENT
UID:39613466-3432-4865-b930-633164653536
DTSTAMP:20260423T232440Z
CATEGORIES:Wien
CLASS:PUBLIC
DESCRIPTION;ALTREP="CID:<FFFF__=0ABBE548DFE235B58f9e8a93d@coffeebean.com>":
 Κείμενα τῆς Ἀκολουθίας θὰ βρεῖτε ἐδῶ
DTSTART:20260423T060000Z
DTEND:20260423T060000Z
GEO:+48.211201;+16.376736
LOCATION:Ἱερὸς Ναὸς Ἁγίου Γεωργίου
ORGANIZER;CN=:mailto:kirche@metropolisvonaustria.at
SEQUENCE:1
SUMMARY:Ὄρθρος καὶ Ἀρχιερατικὴ Θεία Λειτουργία
TRANSP:OPAQUE
URL:https://www.metropolisvonaustria.at/el/component/icagenda/4257-Patrozin
 ium-HL-Georg-gr/2026-04-23-08-00?layout=vcal
END:VEVENT
END:VCALENDAR
