BEGIN:VCALENDAR
VERSION:2.0
PRODID:-//Ἱερὰ Μητρόπολη Αὐστρίας -::- Οἰκουμενικὸ Πατριαρχείο//NONSGML kigkonsult.se iCalcreator 2.41.92//
CALSCALE:GREGORIAN
METHOD:PUBLISH
UID:36306537-3839-4837-a363-613639343630
X-WR-CALNAME:iCagenda
X-WR-CALDESC:Event Management Extension for Joomla!
X-WR-RELCALID:3E26604A-50F4-4449-8B3E-E4F4932D05B5
X-WR-TIMEZONE:Europe/Vienna
BEGIN:VTIMEZONE
TZID:Europe/Vienna
TZUNTIL:20280326T010000Z
BEGIN:STANDARD
TZNAME:CET
DTSTART:20251026T030000
TZOFFSETFROM:+0200
TZOFFSETTO:+0100
RDATE:20261025T030000
RDATE:20271031T030000
END:STANDARD
BEGIN:DAYLIGHT
TZNAME:CEST
DTSTART:20260329T020000
TZOFFSETFROM:+0100
TZOFFSETTO:+0200
RDATE:20270328T020000
END:DAYLIGHT
END:VTIMEZONE
BEGIN:VEVENT
UID:61613830-3463-4966-a638-373762313939
DTSTAMP:20260421T050249Z
CATEGORIES:Heiligenkalender
CLASS:PUBLIC
DESCRIPTION;ALTREP="CID:<FFFF__=0ABBE548DFE235B58f9e8a93d@coffeebean.com>":
 Ἁγιολόγιον τῆς Ὀρθοδόξου Ἐκκλησίας\nΤῇ Ι' τοῦ αὐτοῦ μηνός\, Μνήμη τοῦ Ἁγίο
 υ Ἀποστόλου Σίμωνος τοῦ Ζηλωτοῦ. Τῇ αὐτῇ ἡμέρᾳ\, Μνήμη τῶν Ἁγίων Μαρτύρων\
 , Ἀλφειοῦ\, Φιλαδέλφου\, καὶ Κυπρίνου. Τῇ αὐτῇ ἡμέρᾳ\, Μνήμη τοῦ Ὁσίου Πατ
 ρὸς ἡμῶν Ἡσυχίου τοῦ Ὁμολογητοῦ. Ὁ ὅσιος πατὴρ ἡμῶν Λαυρέντιος ἐν εἰρήνῃ τ
 ελειοῦται.
DTSTART:20260509T220000Z
DTEND:20260509T220000Z
GEO:00;0
LOCATION:
ORGANIZER:
SEQUENCE:1
SUMMARY:Μνήμη τοῦ Ἁγίου Ἀποστόλου Σίμωνος τοῦ Ζηλωτοῦ.
TRANSP:OPAQUE
URL:https://www.metropolisvonaustria.at/el/gesamtliste/3811-%CE%BC%CE%BD%CE
 %AE%CE%BC%CE%B7-%CF%84%CE%BF%E1%BF%A6-%E1%BC%81%CE%B3%CE%AF%CE%BF%CF%85-%E
 1%BC%80%CF%80%CE%BF%CF%83%CF%84%CF%8C%CE%BB%CE%BF%CF%85-%CF%83%CE%AF%CE%BC
 %CF%89%CE%BD%CE%BF%CF%82-%CF%84%CE%BF%E1%BF%A6-%CE%B6%CE%B7%CE%BB%CF%89%CF
 %84%CE%BF%E1%BF%A6/2026-05-10-00-00
END:VEVENT
END:VCALENDAR
