BEGIN:VCALENDAR
VERSION:2.0
PRODID:-//Ἱερὰ Μητρόπολη Αὐστρίας -::- Οἰκουμενικὸ Πατριαρχείο//NONSGML kigkonsult.se iCalcreator 2.41.92//
CALSCALE:GREGORIAN
METHOD:PUBLISH
UID:31383737-3766-4238-b834-323438313230
X-WR-CALNAME:iCagenda
X-WR-CALDESC:Event Management Extension for Joomla!
X-WR-RELCALID:3E26604A-50F4-4449-8B3E-E4F4932D05B5
X-WR-TIMEZONE:Europe/Vienna
BEGIN:VTIMEZONE
TZID:Europe/Vienna
TZUNTIL:20280326T010000Z
BEGIN:STANDARD
TZNAME:CET
DTSTART:20251026T030000
TZOFFSETFROM:+0200
TZOFFSETTO:+0100
RDATE:20261025T030000
RDATE:20271031T030000
END:STANDARD
BEGIN:DAYLIGHT
TZNAME:CEST
DTSTART:20260329T020000
TZOFFSETFROM:+0100
TZOFFSETTO:+0200
RDATE:20270328T020000
END:DAYLIGHT
END:VTIMEZONE
BEGIN:VEVENT
UID:66666430-3162-4063-a466-613739326235
DTSTAMP:20260421T052332Z
CATEGORIES:Heiligenkalender
CLASS:PUBLIC
DESCRIPTION;ALTREP="CID:<FFFF__=0ABBE548DFE235B58f9e8a93d@coffeebean.com>":
 Ἁγιολόγιον τῆς Ὀρθοδόξου Ἐκκλησίας\nΤῇ Γ' τοῦ αὐτοῦ μηνός\, Μνήμη τῶν Ἁγ. 
 Μαρτύρων Τιμοθέου καὶ Μαύρας.  Τῇ αὐτῇ ἡμέρᾳ\, Μνήμη τῆς ἀθλήσεως τῶν Ἁγίω
 ν Μαρτύρων\, Διοδώρου καὶ Ῥοδοπιανοῦ διακόνου. Τῇ αὐτῇ ἡμέρᾳ\, Μνήμη τοῦ ὁ
 σίου πατρὸς ἡμῶν Πέτρου τοῦ σημειοφόρου (θαυματουργοῦ)\, Ἐπισκόπου Ἄργους.
  Οἱ ἅγιοι εἴκοσιν ἑπτὰ μάρτυρες πυρὶ τελειοῦνται.
DTSTART:20260502T220000Z
DTEND:20260502T220000Z
GEO:00;0
LOCATION:
ORGANIZER:
SEQUENCE:1
SUMMARY:Μνήμη τῶν Ἁγίων Μαρτύρων Τιμοθέου καὶ Μαύρας
TRANSP:OPAQUE
URL:https://www.metropolisvonaustria.at/el/gesamtliste/3863-%CE%BC%CE%BD%CE
 %AE%CE%BC%CE%B7-%CF%84%E1%BF%B6%CE%BD-%E1%BC%81%CE%B3%CE%AF%CF%89%CE%BD-%C
 E%BC%CE%B1%CF%81%CF%84%CF%8D%CF%81%CF%89%CE%BD-%CF%84%CE%B9%CE%BC%CE%BF%CE
 %B8%CE%AD%CE%BF%CF%85-%CE%BA%CE%B1%E1%BD%B6-%CE%BC%CE%B1%CF%8D%CF%81%CE%B1
 %CF%82/2026-05-03-00-00
END:VEVENT
END:VCALENDAR
