BEGIN:VCALENDAR
VERSION:2.0
PRODID:-//Ἱερὰ Μητρόπολη Αὐστρίας -::- Οἰκουμενικὸ Πατριαρχείο//NONSGML kigkonsult.se iCalcreator 2.41.92//
CALSCALE:GREGORIAN
METHOD:PUBLISH
UID:30613465-3061-4738-a530-356637626434
X-WR-CALNAME:iCagenda
X-WR-CALDESC:Event Management Extension for Joomla!
X-WR-RELCALID:3E26604A-50F4-4449-8B3E-E4F4932D05B5
X-WR-TIMEZONE:Europe/Vienna
BEGIN:VTIMEZONE
TZID:Europe/Vienna
TZUNTIL:20280326T010000Z
BEGIN:STANDARD
TZNAME:CET
DTSTART:20251026T030000
TZOFFSETFROM:+0200
TZOFFSETTO:+0100
RDATE:20261025T030000
RDATE:20271031T030000
END:STANDARD
BEGIN:DAYLIGHT
TZNAME:CEST
DTSTART:20260329T020000
TZOFFSETFROM:+0100
TZOFFSETTO:+0200
RDATE:20270328T020000
END:DAYLIGHT
END:VTIMEZONE
BEGIN:VEVENT
UID:64633734-3965-4535-b433-383163343161
DTSTAMP:20260421T052257Z
CATEGORIES:Heiligenkalender
CLASS:PUBLIC
DESCRIPTION;ALTREP="CID:<FFFF__=0ABBE548DFE235B58f9e8a93d@coffeebean.com>":
 Ἁγιολόγιον τῆς Ὀρθοδόξου Ἐκκλησίας\nΤῇ Δ' τοῦ αὐτοῦ μηνός\, Μνήμη τῆς Ἁγία
 ς Μάρτυρος Πελαγίας. Τῇ αὐτῇ ἡμέρᾳ\, Μνήμη τοῦ Ὁσίου Πατρὸς ἡμῶν Ἱλαρίου τ
 οῦ θαυματουργοῦ.
DTSTART:20260503T220000Z
DTEND:20260503T220000Z
GEO:00;0
LOCATION:
ORGANIZER:
SEQUENCE:1
SUMMARY:Μνήμη τῆς Ἁγίας Μάρτυρος Πελαγίας.
TRANSP:OPAQUE
URL:https://www.metropolisvonaustria.at/el/gesamtliste/3865-%CE%BC%CE%BD%CE
 %AE%CE%BC%CE%B7-%CF%84%E1%BF%86%CF%82-%E1%BC%81%CE%B3%CE%AF%CE%B1%CF%82-%C
 E%BC%CE%AC%CF%81%CF%84%CF%85%CF%81%CE%BF%CF%82-%CF%80%CE%B5%CE%BB%CE%B1%CE
 %B3%CE%AF%CE%B1%CF%82/2026-05-04-00-00
END:VEVENT
END:VCALENDAR
