BEGIN:VCALENDAR
VERSION:2.0
PRODID:-//Ἱερὰ Μητρόπολη Αὐστρίας -::- Οἰκουμενικὸ Πατριαρχείο//NONSGML kigkonsult.se iCalcreator 2.41.92//
CALSCALE:GREGORIAN
METHOD:PUBLISH
UID:66356430-6364-4938-b135-346438653761
X-WR-CALNAME:iCagenda
X-WR-CALDESC:Event Management Extension for Joomla!
X-WR-RELCALID:3E26604A-50F4-4449-8B3E-E4F4932D05B5
X-WR-TIMEZONE:Europe/Vienna
BEGIN:VTIMEZONE
TZID:Europe/Vienna
TZUNTIL:20280326T010000Z
BEGIN:STANDARD
TZNAME:CET
DTSTART:20251026T030000
TZOFFSETFROM:+0200
TZOFFSETTO:+0100
RDATE:20261025T030000
RDATE:20271031T030000
END:STANDARD
BEGIN:DAYLIGHT
TZNAME:CEST
DTSTART:20260329T020000
TZOFFSETFROM:+0100
TZOFFSETTO:+0200
RDATE:20270328T020000
END:DAYLIGHT
END:VTIMEZONE
BEGIN:VEVENT
UID:39326336-6539-4463-b236-653937343765
DTSTAMP:20260421T050703Z
CATEGORIES:Heiligenkalender
CLASS:PUBLIC
DESCRIPTION;ALTREP="CID:<FFFF__=0ABBE548DFE235B58f9e8a93d@coffeebean.com>":
 Ἁγιολόγιον τῆς Ὀρθοδόξου Ἐκκλησίας\nΤῇ Ε' τοῦ αὐτοῦ μηνός\, Μνήμη τῆς Ἁγία
 ς Μεγαλομάρτυρος Εἰρήνης. Τῇ αὐτῇ ἡμέρᾳ\, Μνήμη τῆς ἀθλήσεως τῶν Ἁγίων Μαρ
 τύρων Νεοφύτου\, Γαΐου καὶ Γαϊανοῦ. Τελεῖται δὲ ἡ αὐτῶν σύναξις ἐν τῷ σεπτ
 ῷ καὶ σεβασμίῳ ναῷ τῶν Ἁγίων ἐνδόξων καὶ θαυματουργῶν Ἀναργύρων Κοσμᾶ καὶ 
 Δαμιανοῦ\, τῷ ὄντι ἐν τοῖς Δαρείου.Τῇ αὐτῇ ἡμέρᾳ\, Ἀνάμνησις τῶν ἐγκαινίων
  τοῦ ναοῦ τῆς Ὑπεραγίας Θεοτόκου ἐν τοῖς Κύρου.
DTSTART:20260504T220000Z
DTEND:20260504T220000Z
GEO:00;0
LOCATION:
ORGANIZER:
SEQUENCE:1
SUMMARY:Μνήμη τῆς Ἁγίας καὶ ἐνδόξου Μεγαλομάρτυρος Εἰρήνης.
TRANSP:OPAQUE
URL:https://www.metropolisvonaustria.at/el/gesamtliste/3867-%CE%BC%CE%BD%CE
 %AE%CE%BC%CE%B7-%CF%84%E1%BF%86%CF%82-%E1%BC%81%CE%B3%CE%AF%CE%B1%CF%82-%C
 E%BA%CE%B1%E1%BD%B6-%E1%BC%90%CE%BD%CE%B4%CF%8C%CE%BE%CE%BF%CF%85-%CE%BC%C
 E%B5%CE%B3%CE%B1%CE%BB%CE%BF%CE%BC%CE%AC%CF%81%CF%84%CF%85%CF%81%CE%BF%CF%
 82-%CE%B5%E1%BC%B0%CF%81%CE%AE%CE%BD%CE%B7%CF%82/2026-05-05-00-00
END:VEVENT
END:VCALENDAR
