BEGIN:VCALENDAR
VERSION:2.0
PRODID:-//Ἱερὰ Μητρόπολη Αὐστρίας -::- Οἰκουμενικὸ Πατριαρχείο//NONSGML kigkonsult.se iCalcreator 2.41.92//
CALSCALE:GREGORIAN
METHOD:PUBLISH
UID:30633364-6234-4533-b933-396139336239
X-WR-CALNAME:iCagenda
X-WR-CALDESC:Event Management Extension for Joomla!
X-WR-RELCALID:3E26604A-50F4-4449-8B3E-E4F4932D05B5
X-WR-TIMEZONE:Europe/Vienna
BEGIN:VTIMEZONE
TZID:Europe/Vienna
TZUNTIL:20280326T010000Z
BEGIN:STANDARD
TZNAME:CET
DTSTART:20251026T030000
TZOFFSETFROM:+0200
TZOFFSETTO:+0100
RDATE:20261025T030000
RDATE:20271031T030000
END:STANDARD
BEGIN:DAYLIGHT
TZNAME:CEST
DTSTART:20260329T020000
TZOFFSETFROM:+0100
TZOFFSETTO:+0200
RDATE:20270328T020000
END:DAYLIGHT
END:VTIMEZONE
BEGIN:VEVENT
UID:35396331-3463-4630-b166-663865616634
DTSTAMP:20260421T052827Z
CATEGORIES:Graz
CLASS:PUBLIC
DESCRIPTION;ALTREP="CID:<FFFF__=0ABBE548DFE235B58f9e8a93d@coffeebean.com>":
 Οἱ Ἀκολουθίες τελοῦνται προσωρινὰ στὴ Leechkirche\, Zinzendorfgasse 2\, 80
 20 Graz.
DTSTART:20260503T063000Z
DTEND:20260503T063000Z
GEO:00;0
LOCATION:Ἐνορία Ἁγίων Κοσμᾶ καὶ Δαμιανοῦ τῶν Ἀναργύρων
ORGANIZER;CN=:mailto:kirche@metropolisvonaustria.at
SEQUENCE:1
SUMMARY:Ὄρθρος καὶ Θεία Λειτουργία
TRANSP:OPAQUE
URL:https://www.metropolisvonaustria.at/el/gesamtliste/4137-%E1%BD%84%CF%81
 %CE%B8%CF%81%CE%BF%CF%82-%CE%BA%CE%B1%E1%BD%B6-%CE%B8%CE%B5%CE%AF%CE%B1-%C
 E%BB%CE%B5%CE%B9%CF%84%CE%BF%CF%85%CF%81%CE%B3%CE%AF%CE%B1-4/2026-05-03-08
 -30
END:VEVENT
END:VCALENDAR
