BEGIN:VCALENDAR
VERSION:2.0
PRODID:-//Ἱερὰ Μητρόπολη Αὐστρίας -::- Οἰκουμενικὸ Πατριαρχείο//NONSGML kigkonsult.se iCalcreator 2.41.92//
CALSCALE:GREGORIAN
METHOD:PUBLISH
UID:31343138-3636-4763-b232-656634646636
X-WR-CALNAME:iCagenda
X-WR-CALDESC:Event Management Extension for Joomla!
X-WR-RELCALID:3E26604A-50F4-4449-8B3E-E4F4932D05B5
X-WR-TIMEZONE:Europe/Vienna
BEGIN:VTIMEZONE
TZID:Europe/Vienna
TZUNTIL:20271031T010000Z
BEGIN:STANDARD
TZNAME:CET
DTSTART:20251026T030000
TZOFFSETFROM:+0200
TZOFFSETTO:+0100
RDATE:20261025T030000
END:STANDARD
BEGIN:DAYLIGHT
TZNAME:CEST
DTSTART:20260329T020000
TZOFFSETFROM:+0100
TZOFFSETTO:+0200
RDATE:20270328T020000
END:DAYLIGHT
END:VTIMEZONE
BEGIN:VEVENT
UID:33343136-6164-4264-b131-303437326130
DTSTAMP:20260421T052452Z
CATEGORIES:Wien
CLASS:PUBLIC
DESCRIPTION:
DTSTART:20260426T060000Z
DTEND:20260426T060000Z
GEO:00;0
LOCATION:Ἱερὸς Καθεδρικὸς Ναὸς Ἁγίας Τριάδος
ORGANIZER;CN=:mailto:kirche@metropolisvonaustria.at
SEQUENCE:1
SUMMARY:Ὄρθρος καὶ Θεία Λειτουργία
TRANSP:OPAQUE
URL:https://www.metropolisvonaustria.at/el/gesamtliste/4251-liturgie-HL-Dre
 ifaltigkeit-gr/2026-04-26-08-00
END:VEVENT
END:VCALENDAR
